BEGIN:VCALENDAR
PRODID:-//github.com/rianjs/ical.net//NONSGML ical.net 4.0//EN
VERSION:2.0
BEGIN:VTIMEZONE
TZID:America/New_York
X-LIC-LOCATION:America/New_York
BEGIN:STANDARD
DTSTART:20241103T020000
RRULE:FREQ=YEARLY;BYDAY=1SU;BYMONTH=11
TZNAME:EST
TZOFFSETFROM:-0400
TZOFFSETTO:-0500
END:STANDARD
BEGIN:DAYLIGHT
DTSTART:20250309T020000
RRULE:FREQ=YEARLY;BYDAY=2SU;BYMONTH=3
TZNAME:EDT
TZOFFSETFROM:-0500
TZOFFSETTO:-0400
END:DAYLIGHT
END:VTIMEZONE
BEGIN:VEVENT
CLASS:PUBLIC
CREATED:20260420T032038Z
DESCRIPTION:\n https://engage.buncombecounty.org/U22731
DTEND;TZID=America/New_York:20260424T143000
DTSTAMP:20260420T032038Z
DTSTART;TZID=America/New_York:20260424T123000
LOCATION:
SEQUENCE:0
SUMMARY:Health and Human Services Board Meeting: April 24\, 2026
UID:d9c2ed1f-f1f7-47ae-9201-0d61f7e12785
END:VEVENT
END:VCALENDAR
